BEGIN:VCALENDAR
VERSION:2.0
PRODID:-//fbsuppliers.dk - ECPv6.15.20//NONSGML v1.0//EN
CALSCALE:GREGORIAN
METHOD:PUBLISH
X-WR-CALNAME:fbsuppliers.dk
X-ORIGINAL-URL:https://fbsuppliers.dk/en/
X-WR-CALDESC:Events for fbsuppliers.dk
REFRESH-INTERVAL;VALUE=DURATION:PT1H
X-Robots-Tag:noindex
X-PUBLISHED-TTL:PT1H
BEGIN:VTIMEZONE
TZID:Europe/Copenhagen
BEGIN:DAYLIGHT
TZOFFSETFROM:+0100
TZOFFSETTO:+0200
TZNAME:CEST
DTSTART:20250330T010000
END:DAYLIGHT
BEGIN:STANDARD
TZOFFSETFROM:+0200
TZOFFSETTO:+0100
TZNAME:CET
DTSTART:20251026T010000
END:STANDARD
BEGIN:DAYLIGHT
TZOFFSETFROM:+0100
TZOFFSETTO:+0200
TZNAME:CEST
DTSTART:20260329T010000
END:DAYLIGHT
BEGIN:STANDARD
TZOFFSETFROM:+0200
TZOFFSETTO:+0100
TZNAME:CET
DTSTART:20261025T010000
END:STANDARD
BEGIN:DAYLIGHT
TZOFFSETFROM:+0100
TZOFFSETTO:+0200
TZNAME:CEST
DTSTART:20270328T010000
END:DAYLIGHT
BEGIN:STANDARD
TZOFFSETFROM:+0200
TZOFFSETTO:+0100
TZNAME:CET
DTSTART:20271031T010000
END:STANDARD
END:VTIMEZONE
BEGIN:VEVENT
DTSTART;TZID=Europe/Copenhagen:20260528T100000
DTEND;TZID=Europe/Copenhagen:20260528T140000
DTSTAMP:20260424T133835
CREATED:20260107T083004Z
LAST-MODIFIED:20260421T082201Z
UID:5134-1779962400-1779976800@fbsuppliers.dk
SUMMARY:FB Suppliers Messe 2026
DESCRIPTION:Open Air Messe hos FB Suppliers\nSom udstiller får du en unik mulighed for at invitere kunder\, samarbejdspartnere og ledelse til en inspirerende dag med fokus på fremtidige opgaver på Lolland\, Falster og det øvrige Danmark. Samtidig møder du nye\, potentielle kunder\, inviteret af andre FB Suppliers-medlemmer. \nSom udstiller får du: \n\nEn standplads (maks. 3 x 3 meter) med mulighed for at fremvise dine produkter eller ydelser.\nLet forplejning under hele arrangementet.\nMulighed for eksponering gennem sociale medier; LinkedIn\, Facebook\, Instagram\n\n\nHar du behov for at invitere eksterne virksomheder for at fremme din egen virksomhed\, så henvend dig til Rikke på rt@fbsuppliers.com!\nHvis du ikke har et fysisk produkt\, så kom alligevel! Dit fremmøde markedsfører din virksomhed!\n \nHvis du ønsker at give et bidrag i forhold til drikkelse\, snacks eller andet\, så kontakt endelig også Rikke! \nPraktisk information: \n\nMessen afholdes udendørs foran FB Suppliers’ kontor – Gamle Badevej 2A\, 4970 Rødby.\nSom udstiller bedes du selv medbringe pavillon eller lignende overdækning i tilfælde af regn\, samt borde\, stole\, forlængerledninger (ved behov for strøm\, oplys til Rikke)\, og andre fornødenheder.\nEt stort fællestelt m. borde og bænke vil være tilgængeligt for besøgende.\nSom udstiller skal din stand være opsat og klar senest kl. 9.30.\n\n\nTilmeld dig\, som udstiller\, senest mandag d. 25. maj! \nHar du brug for at invitere kunder\, samarbejdspartnere eller andre med interesse i netværk\, så har vi skabt en særlig invitation til dem\, som du er velkommen til at videresende: \nDansk: Invitation til samarbejdspartnere og leverandører\nEngelsk: Invitation for Partners and suppliers
URL:https://fbsuppliers.dk/en/begivenhed/fb-suppliers-messe-2026/
LOCATION:FB Suppliers\, Gl. Badevej 2A\, Rødby\, 4970\, Denmark
ATTACH;FMTTYPE=image/png:https://fbsuppliers.dk/wp-content/uploads/2026/01/Messe-.png
END:VEVENT
END:VCALENDAR