BEGIN:VCALENDAR
VERSION:2.0
PRODID:-//fbsuppliers.dk - ECPv6.15.20//NONSGML v1.0//EN
CALSCALE:GREGORIAN
METHOD:PUBLISH
X-WR-CALNAME:fbsuppliers.dk
X-ORIGINAL-URL:https://fbsuppliers.dk/en/
X-WR-CALDESC:Events for fbsuppliers.dk
REFRESH-INTERVAL;VALUE=DURATION:PT1H
X-Robots-Tag:noindex
X-PUBLISHED-TTL:PT1H
BEGIN:VTIMEZONE
TZID:Europe/Copenhagen
BEGIN:DAYLIGHT
TZOFFSETFROM:+0100
TZOFFSETTO:+0200
TZNAME:CEST
DTSTART:20250330T010000
END:DAYLIGHT
BEGIN:STANDARD
TZOFFSETFROM:+0200
TZOFFSETTO:+0100
TZNAME:CET
DTSTART:20251026T010000
END:STANDARD
BEGIN:DAYLIGHT
TZOFFSETFROM:+0100
TZOFFSETTO:+0200
TZNAME:CEST
DTSTART:20260329T010000
END:DAYLIGHT
BEGIN:STANDARD
TZOFFSETFROM:+0200
TZOFFSETTO:+0100
TZNAME:CET
DTSTART:20261025T010000
END:STANDARD
BEGIN:DAYLIGHT
TZOFFSETFROM:+0100
TZOFFSETTO:+0200
TZNAME:CEST
DTSTART:20270328T010000
END:DAYLIGHT
BEGIN:STANDARD
TZOFFSETFROM:+0200
TZOFFSETTO:+0100
TZNAME:CET
DTSTART:20271031T010000
END:STANDARD
END:VTIMEZONE
BEGIN:VEVENT
DTSTART;TZID=Europe/Copenhagen:20260430T110000
DTEND;TZID=Europe/Copenhagen:20260430T140000
DTSTAMP:20260425T151936
CREATED:20260326T093323Z
LAST-MODIFIED:20260326T094727Z
UID:5762-1777546800-1777557600@fbsuppliers.dk
SUMMARY:Reception hos FB Suppliers - Henriette fylder 50!
DESCRIPTION:  \nEnglish:\nInvitation Reception – Reception at the office\, Henriette Turning 50!
URL:https://fbsuppliers.dk/en/begivenhed/reception-hos-fb-suppliers-henriette-fylder-50/
LOCATION:FB Suppliers\, Gl. Badevej 2A\, Rødby\, 4970\, Denmark
ATTACH;FMTTYPE=image/png:https://fbsuppliers.dk/wp-content/uploads/2026/03/ChatGPT-Image-25.-mar.-2026-12.08.45.png
END:VEVENT
END:VCALENDAR